BEGIN:VCALENDAR
VERSION:2.0
PRODID:-//ChamberMaster//Event Calendar 2.0//EN
METHOD:PUBLISH
X-PUBLISHED-TTL:P1H
REFRESH-INTERVAL:P1H
CALSCALE:GREGORIAN
BEGIN:VTIMEZONE
TZID:America/Chicago
BEGIN:DAYLIGHT
RRULE:FREQ=YEARLY;BYMONTH=3;BYDAY=2SU
DTSTART:20070101T000000
TZOFFSETFROM:-0600
TZOFFSETTO:-0500
TZNAME:Central Daylight Time
END:DAYLIGHT
BEGIN:STANDARD
RRULE:FREQ=YEARLY;BYMONTH=11;BYDAY=1SU
DTSTART:20070101T000000
TZOFFSETFROM:-0500
TZOFFSETTO:-0600
TZNAME:Central Standard Time
END:STANDARD
END:VTIMEZONE
BEGIN:VEVENT
DTSTART;TZID=America/Chicago:20260520T110000
DTEND;TZID=America/Chicago:20260520T140000
X-MICROSOFT-CDO-ALLDAYEVENT:FALSE
SUMMARY:Join us for Caravan
DESCRIPTION:MLS Caravan is one of the best ways for REALTORS  to stay connected while staying informed about what's on the market. Agents gather at the HSBOR office on the 1st and 2nd Wednesday of the month (with a few exceptions) to enjoy lunch at 11:00 AM\, then hit the road at noon to tour active listings together. The Caravan Committee Chair posts a tour sheet in advance\, and agents leave at the designated time to view the selected properties. It's a great opportunity to network\, preview homes for clients\, and stay up to date on the latest listings. And of course\, there's one important rule everyone knows: if you have to use your windshield wipers\, there is no caravan! 🌧️🚗
X-ALT-DESC;FMTTYPE=text/html:<!DOCTYPE html><html><head><title></title></head><body aria-disabled="false"><p>MLS Caravan is one of the best ways for REALTORS&reg\; to stay connected while staying informed about what&rsquo\;s on the market. Agents gather at the HSBOR office on the 1st and 2nd Wednesday of the month (with a few exceptions) to enjoy lunch at 11:00 AM\, then hit the road at noon to tour active listings together. The Caravan Committee Chair posts a tour sheet in advance\, and agents leave at the designated time to view the selected properties. It&rsquo\;s a great opportunity to network\, preview homes for clients\, and stay up to date on the latest listings. And of course\, there&rsquo\;s one important rule everyone knows: if you have to use your windshield wipers\, there is no caravan! 🌧️🚗</p></body></html>
LOCATION:437 ORANGE STREET HOT SPRINGS AR 71901
UID:e.3724.1448570
SEQUENCE:3
DTSTAMP:20260424T200043Z
URL:https://members.hotspringsboardofrealtors.com/event-calendar/Details/join-us-for-caravan-1715569?sourceTypeId=Hub
END:VEVENT
END:VCALENDAR
